BEGIN:VCALENDAR
VERSION:2.0
PRODID:-//TRL Wisconsin - ECPv6.15.20//NONSGML v1.0//EN
CALSCALE:GREGORIAN
METHOD:PUBLISH
X-WR-CALNAME:TRL Wisconsin
X-ORIGINAL-URL:https://wi.thereadingleague.org
X-WR-CALDESC:Events for TRL Wisconsin
REFRESH-INTERVAL;VALUE=DURATION:PT1H
X-Robots-Tag:noindex
X-PUBLISHED-TTL:PT1H
BEGIN:VTIMEZONE
TZID:America/Chicago
BEGIN:DAYLIGHT
TZOFFSETFROM:-0600
TZOFFSETTO:-0500
TZNAME:CDT
DTSTART:20230312T080000
END:DAYLIGHT
BEGIN:STANDARD
TZOFFSETFROM:-0500
TZOFFSETTO:-0600
TZNAME:CST
DTSTART:20231105T070000
END:STANDARD
BEGIN:DAYLIGHT
TZOFFSETFROM:-0600
TZOFFSETTO:-0500
TZNAME:CDT
DTSTART:20240310T080000
END:DAYLIGHT
BEGIN:STANDARD
TZOFFSETFROM:-0500
TZOFFSETTO:-0600
TZNAME:CST
DTSTART:20241103T070000
END:STANDARD
BEGIN:DAYLIGHT
TZOFFSETFROM:-0600
TZOFFSETTO:-0500
TZNAME:CDT
DTSTART:20250309T080000
END:DAYLIGHT
BEGIN:STANDARD
TZOFFSETFROM:-0500
TZOFFSETTO:-0600
TZNAME:CST
DTSTART:20251102T070000
END:STANDARD
END:VTIMEZONE
BEGIN:VEVENT
DTSTART;TZID=America/Chicago:20240828T183000
DTEND;TZID=America/Chicago:20240828T183000
DTSTAMP:20260423T035401
CREATED:20240726T225223Z
LAST-MODIFIED:20240726T225223Z
UID:10000153-1724869800-1724869800@wi.thereadingleague.org
SUMMARY:The Role of Oral Language in Literacy
DESCRIPTION:Join us for this free virtual event with Dr. Danielle ‘Nell’ Thompson\, founder and president of The Transformative Reading Teacher Group and president of The Reading League Montana.
URL:https://wi.thereadingleague.org/calendar/the-role-of-oral-language-in-literacy/
CATEGORIES:Event
END:VEVENT
END:VCALENDAR