BEGIN:VCALENDAR
VERSION:2.0
PRODID:-//TRL Wisconsin - ECPv6.15.20//NONSGML v1.0//EN
CALSCALE:GREGORIAN
METHOD:PUBLISH
X-ORIGINAL-URL:https://wi.thereadingleague.org
X-WR-CALDESC:Events for TRL Wisconsin
REFRESH-INTERVAL;VALUE=DURATION:PT1H
X-Robots-Tag:noindex
X-PUBLISHED-TTL:PT1H
BEGIN:VTIMEZONE
TZID:America/Chicago
BEGIN:DAYLIGHT
TZOFFSETFROM:-0600
TZOFFSETTO:-0500
TZNAME:CDT
DTSTART:20220313T080000
END:DAYLIGHT
BEGIN:STANDARD
TZOFFSETFROM:-0500
TZOFFSETTO:-0600
TZNAME:CST
DTSTART:20221106T070000
END:STANDARD
BEGIN:DAYLIGHT
TZOFFSETFROM:-0600
TZOFFSETTO:-0500
TZNAME:CDT
DTSTART:20230312T080000
END:DAYLIGHT
BEGIN:STANDARD
TZOFFSETFROM:-0500
TZOFFSETTO:-0600
TZNAME:CST
DTSTART:20231105T070000
END:STANDARD
BEGIN:DAYLIGHT
TZOFFSETFROM:-0600
TZOFFSETTO:-0500
TZNAME:CDT
DTSTART:20240310T080000
END:DAYLIGHT
BEGIN:STANDARD
TZOFFSETFROM:-0500
TZOFFSETTO:-0600
TZNAME:CST
DTSTART:20241103T070000
END:STANDARD
END:VTIMEZONE
BEGIN:VEVENT
DTSTART;TZID=America/Chicago:20230502T180000
DTEND;TZID=America/Chicago:20230502T180000
DTSTAMP:20260419T220637
CREATED:20230406T014318Z
LAST-MODIFIED:20230419T142028Z
UID:10000127-1683050400-1683050400@wi.thereadingleague.org
SUMMARY:'The Right to Read' Ashland Screening
DESCRIPTION:Please join us. No registration required.
URL:https://wi.thereadingleague.org/calendar/the-right-to-read-ashland-screening/
CATEGORIES:Event,Live Event,Wisconsin
END:VEVENT
BEGIN:VEVENT
DTSTART;TZID=America/Chicago:20230503T180000
DTEND;TZID=America/Chicago:20230503T180000
DTSTAMP:20260419T220637
CREATED:20230419T141033Z
LAST-MODIFIED:20230419T142101Z
UID:10000128-1683136800-1683136800@wi.thereadingleague.org
SUMMARY:'The Right to Read' Eagle River Screening
DESCRIPTION:Please join us. No registration required.
URL:https://wi.thereadingleague.org/calendar/the-right-to-read-eagle-river-screening/
CATEGORIES:Event,Live Event,Wisconsin
END:VEVENT
END:VCALENDAR