BEGIN:VCALENDAR
VERSION:2.0
PRODID:-//TRL Wisconsin - ECPv6.15.20//NONSGML v1.0//EN
CALSCALE:GREGORIAN
METHOD:PUBLISH
X-ORIGINAL-URL:https://wi.thereadingleague.org
X-WR-CALDESC:Events for TRL Wisconsin
REFRESH-INTERVAL;VALUE=DURATION:PT1H
X-Robots-Tag:noindex
X-PUBLISHED-TTL:PT1H
BEGIN:VTIMEZONE
TZID:America/New_York
BEGIN:DAYLIGHT
TZOFFSETFROM:-0500
TZOFFSETTO:-0400
TZNAME:EDT
DTSTART:20220313T070000
END:DAYLIGHT
BEGIN:STANDARD
TZOFFSETFROM:-0400
TZOFFSETTO:-0500
TZNAME:EST
DTSTART:20221106T060000
END:STANDARD
BEGIN:DAYLIGHT
TZOFFSETFROM:-0500
TZOFFSETTO:-0400
TZNAME:EDT
DTSTART:20230312T070000
END:DAYLIGHT
BEGIN:STANDARD
TZOFFSETFROM:-0400
TZOFFSETTO:-0500
TZNAME:EST
DTSTART:20231105T060000
END:STANDARD
BEGIN:DAYLIGHT
TZOFFSETFROM:-0500
TZOFFSETTO:-0400
TZNAME:EDT
DTSTART:20240310T070000
END:DAYLIGHT
BEGIN:STANDARD
TZOFFSETFROM:-0400
TZOFFSETTO:-0500
TZNAME:EST
DTSTART:20241103T060000
END:STANDARD
END:VTIMEZONE
BEGIN:VEVENT
DTSTART;VALUE=DATE:20231027
DTEND;VALUE=DATE:20231028
DTSTAMP:20260423T183617
CREATED:20230324T201541Z
LAST-MODIFIED:20230501T185704Z
UID:10000112-1698364800-1698451199@wi.thereadingleague.org
SUMMARY:Turning the Tide in Reading Instruction 2023
DESCRIPTION:Join us for our second annual gathering! Emily Hanford kicks off the day with the story of her journey into the science of reading\, followed by Laura Stewart\, Heidi Anne Mesmer\, Michelle Elia\, and Shauna Cotte addressing models of reading\, spelling\, morphology\, and early writing. We end the day with a screening of The Right to Read film. Attend in-person or via live stream! Click here for more information and a link to registration.
URL:https://wi.thereadingleague.org/calendar/turning-the-tide-in-reading-instruction-2023-4-2/
CATEGORIES:Event,Live Event,Wisconsin
END:VEVENT
END:VCALENDAR