BEGIN:VCALENDAR
VERSION:2.0
PRODID:-//TRL Wisconsin - ECPv6.15.20//NONSGML v1.0//EN
CALSCALE:GREGORIAN
METHOD:PUBLISH
X-ORIGINAL-URL:https://wi.thereadingleague.org
X-WR-CALDESC:Events for TRL Wisconsin
REFRESH-INTERVAL;VALUE=DURATION:PT1H
X-Robots-Tag:noindex
X-PUBLISHED-TTL:PT1H
BEGIN:VTIMEZONE
TZID:America/Chicago
BEGIN:DAYLIGHT
TZOFFSETFROM:-0600
TZOFFSETTO:-0500
TZNAME:CDT
DTSTART:20240310T080000
END:DAYLIGHT
BEGIN:STANDARD
TZOFFSETFROM:-0500
TZOFFSETTO:-0600
TZNAME:CST
DTSTART:20241103T070000
END:STANDARD
BEGIN:DAYLIGHT
TZOFFSETFROM:-0600
TZOFFSETTO:-0500
TZNAME:CDT
DTSTART:20250309T080000
END:DAYLIGHT
BEGIN:STANDARD
TZOFFSETFROM:-0500
TZOFFSETTO:-0600
TZNAME:CST
DTSTART:20251102T070000
END:STANDARD
BEGIN:DAYLIGHT
TZOFFSETFROM:-0600
TZOFFSETTO:-0500
TZNAME:CDT
DTSTART:20260308T080000
END:DAYLIGHT
BEGIN:STANDARD
TZOFFSETFROM:-0500
TZOFFSETTO:-0600
TZNAME:CST
DTSTART:20261101T070000
END:STANDARD
END:VTIMEZONE
BEGIN:VEVENT
DTSTART;TZID=America/Chicago:20250304T190000
DTEND;TZID=America/Chicago:20250304T190000
DTSTAMP:20260424T113347
CREATED:20241204T203759Z
LAST-MODIFIED:20241204T203840Z
UID:10000168-1741114800-1741114800@wi.thereadingleague.org
SUMMARY:Multilingual Learners in the Classroom
DESCRIPTION:Join Magdalena Zavaglia for a presentation on serving multilingual students. Magdalena Zavalia is the CEO of the PAF Reading Program and founder and CEO of Aprendo Leyendo. As a parent\, she became deeply familiar with the current crisis in literacy education and made it her personal mission to help bring change to the way reading is taught in schools. Before her work in education\, Magdalena practiced law at Latham and Watkins LLP. She graduated from the Universidad Católica Argentina Law School in Buenos Aires and has an LLM (Master of Laws) from Columbia University. She is admitted to practice in Buenos Aires and New York. Magdalena is also Founder and CEO of Aprendo Leyendo and serves on the board at The Windward School\, the Achelis & Bodman Foundation\, and the Whiting Foundation. She is a member of the Haskins Global Literacy Hub.
URL:https://wi.thereadingleague.org/calendar/multilingual-learners-in-the-classroom/
CATEGORIES:Event,Wisconsin
END:VEVENT
BEGIN:VEVENT
DTSTART;TZID=America/Chicago:20250308T090000
DTEND;TZID=America/Chicago:20250308T090000
DTSTAMP:20260424T113347
CREATED:20240829T115741Z
LAST-MODIFIED:20240829T115741Z
UID:10000160-1741424400-1741424400@wi.thereadingleague.org
SUMMARY:The Teacher's Lounge-Let's Chat about Act 20
DESCRIPTION:Join our panel for an informal discussion of Act 20. Bring your questions to guide the conversation! Register once and attend as many meetings as you wish.
URL:https://wi.thereadingleague.org/calendar/the-teachers-lounge-lets-chat-about-act-20-7/
CATEGORIES:Chapters,Event,Wisconsin
END:VEVENT
END:VCALENDAR